BEGIN:VCALENDAR
VERSION:2.0
PRODID:-//Route 65 Pub N Grub - ECPv6.15.20//NONSGML v1.0//EN
CALSCALE:GREGORIAN
METHOD:PUBLISH
X-ORIGINAL-URL:https://route65pubngrub.com
X-WR-CALDESC:Events for Route 65 Pub N Grub
REFRESH-INTERVAL;VALUE=DURATION:PT1H
X-Robots-Tag:noindex
X-PUBLISHED-TTL:PT1H
BEGIN:VTIMEZONE
TZID:America/Chicago
BEGIN:DAYLIGHT
TZOFFSETFROM:-0600
TZOFFSETTO:-0500
TZNAME:CDT
DTSTART:20220313T080000
END:DAYLIGHT
BEGIN:STANDARD
TZOFFSETFROM:-0500
TZOFFSETTO:-0600
TZNAME:CST
DTSTART:20221106T070000
END:STANDARD
BEGIN:DAYLIGHT
TZOFFSETFROM:-0600
TZOFFSETTO:-0500
TZNAME:CDT
DTSTART:20230312T080000
END:DAYLIGHT
BEGIN:STANDARD
TZOFFSETFROM:-0500
TZOFFSETTO:-0600
TZNAME:CST
DTSTART:20231105T070000
END:STANDARD
BEGIN:DAYLIGHT
TZOFFSETFROM:-0600
TZOFFSETTO:-0500
TZNAME:CDT
DTSTART:20240310T080000
END:DAYLIGHT
BEGIN:STANDARD
TZOFFSETFROM:-0500
TZOFFSETTO:-0600
TZNAME:CST
DTSTART:20241103T070000
END:STANDARD
END:VTIMEZONE
BEGIN:VEVENT
DTSTART;TZID=America/Chicago:20230102T190000
DTEND;TZID=America/Chicago:20230102T190000
DTSTAMP:20260421T034441
CREATED:20230106T205956Z
LAST-MODIFIED:20230107T014714Z
UID:10000008-1672686000-1672686000@route65pubngrub.com
SUMMARY:Texas Hold 'Em
DESCRIPTION:
URL:https://route65pubngrub.com/calendar/texas-hold-em-6/
LOCATION:MN
END:VEVENT
BEGIN:VEVENT
DTSTART;TZID=America/Chicago:20230109T190000
DTEND;TZID=America/Chicago:20230109T190000
DTSTAMP:20260421T034441
CREATED:20230106T201444Z
LAST-MODIFIED:20230107T003629Z
UID:10000056-1673290800-1673290800@route65pubngrub.com
SUMMARY:Texas Hold 'Em
DESCRIPTION:
URL:https://route65pubngrub.com/calendar/texas-hold-em-2/
LOCATION:Route 65 Pub and Grub\, 18407 Highway 65 NE\, East Bethel\, MN\, 55011\, United States
END:VEVENT
BEGIN:VEVENT
DTSTART;TZID=America/Chicago:20230116T190000
DTEND;TZID=America/Chicago:20230116T190000
DTSTAMP:20260421T034441
CREATED:20230106T202706Z
LAST-MODIFIED:20230107T003807Z
UID:10000036-1673895600-1673895600@route65pubngrub.com
SUMMARY:Texas Hold 'Em
DESCRIPTION:
URL:https://route65pubngrub.com/calendar/texas-hold-em-3/
LOCATION:Route 65 Pub and Grub\, 18407 Highway 65 NE\, East Bethel\, MN\, 55011\, United States
END:VEVENT
BEGIN:VEVENT
DTSTART;TZID=America/Chicago:20230123T190000
DTEND;TZID=America/Chicago:20230123T190000
DTSTAMP:20260421T034441
CREATED:20230106T203731Z
LAST-MODIFIED:20230107T003918Z
UID:10000032-1674500400-1674500400@route65pubngrub.com
SUMMARY:Texas Hold 'Em
DESCRIPTION:
URL:https://route65pubngrub.com/calendar/texas-hold-em-4/
LOCATION:Route 65 Pub and Grub\, 18407 Highway 65 NE\, East Bethel\, MN\, 55011\, United States
END:VEVENT
BEGIN:VEVENT
DTSTART;TZID=America/Chicago:20230130T190000
DTEND;TZID=America/Chicago:20230130T190000
DTSTAMP:20260421T034441
CREATED:20230106T204441Z
LAST-MODIFIED:20230107T004053Z
UID:10000022-1675105200-1675105200@route65pubngrub.com
SUMMARY:Texas Hold 'Em
DESCRIPTION:
URL:https://route65pubngrub.com/calendar/texas-hold-em-5/
LOCATION:MN
END:VEVENT
END:VCALENDAR