BEGIN:VCALENDAR
VERSION:2.0
PRODID:-//Route 65 Pub N Grub - ECPv6.15.20//NONSGML v1.0//EN
CALSCALE:GREGORIAN
METHOD:PUBLISH
X-ORIGINAL-URL:https://route65pubngrub.com
X-WR-CALDESC:Events for Route 65 Pub N Grub
REFRESH-INTERVAL;VALUE=DURATION:PT1H
X-Robots-Tag:noindex
X-PUBLISHED-TTL:PT1H
BEGIN:VTIMEZONE
TZID:America/Chicago
BEGIN:DAYLIGHT
TZOFFSETFROM:-0600
TZOFFSETTO:-0500
TZNAME:CDT
DTSTART:20220313T080000
END:DAYLIGHT
BEGIN:STANDARD
TZOFFSETFROM:-0500
TZOFFSETTO:-0600
TZNAME:CST
DTSTART:20221106T070000
END:STANDARD
BEGIN:DAYLIGHT
TZOFFSETFROM:-0600
TZOFFSETTO:-0500
TZNAME:CDT
DTSTART:20230312T080000
END:DAYLIGHT
BEGIN:STANDARD
TZOFFSETFROM:-0500
TZOFFSETTO:-0600
TZNAME:CST
DTSTART:20231105T070000
END:STANDARD
BEGIN:DAYLIGHT
TZOFFSETFROM:-0600
TZOFFSETTO:-0500
TZNAME:CDT
DTSTART:20240310T080000
END:DAYLIGHT
BEGIN:STANDARD
TZOFFSETFROM:-0500
TZOFFSETTO:-0600
TZNAME:CST
DTSTART:20241103T070000
END:STANDARD
END:VTIMEZONE
BEGIN:VEVENT
DTSTART;TZID=America/Chicago:20230106T190000
DTEND;TZID=America/Chicago:20230106T190000
DTSTAMP:20260422T081626
CREATED:20230106T201856Z
LAST-MODIFIED:20230107T002625Z
UID:10000058-1673031600-1673031600@route65pubngrub.com
SUMMARY:Rockin' Bingo
DESCRIPTION:
URL:https://route65pubngrub.com/calendar/rockin-bingo-2/
LOCATION:Route 65 Pub and Grub\, 18407 Highway 65 NE\, East Bethel\, MN\, 55011\, United States
END:VEVENT
BEGIN:VEVENT
DTSTART;TZID=America/Chicago:20230113T190000
DTEND;TZID=America/Chicago:20230113T190000
DTSTAMP:20260422T081626
CREATED:20230106T204801Z
LAST-MODIFIED:20230107T002508Z
UID:10000026-1673636400-1673636400@route65pubngrub.com
SUMMARY:Rockin' Bingo
DESCRIPTION:
URL:https://route65pubngrub.com/calendar/rockin-bar-bingo/
LOCATION:MN
END:VEVENT
BEGIN:VEVENT
DTSTART;TZID=America/Chicago:20230120T190000
DTEND;TZID=America/Chicago:20230120T190000
DTSTAMP:20260422T081626
CREATED:20230106T204911Z
LAST-MODIFIED:20230107T002822Z
UID:10000028-1674241200-1674241200@route65pubngrub.com
SUMMARY:Rockin' Bingo
DESCRIPTION:
URL:https://route65pubngrub.com/calendar/rockin-bingo-3/
LOCATION:Route 65 Pub and Grub\, 18407 Highway 65 NE\, East Bethel\, MN\, 55011\, United States
END:VEVENT
BEGIN:VEVENT
DTSTART;TZID=America/Chicago:20230127T190000
DTEND;TZID=America/Chicago:20230127T190000
DTSTAMP:20260422T081626
CREATED:20230106T205042Z
LAST-MODIFIED:20230107T003008Z
UID:10000013-1674846000-1674846000@route65pubngrub.com
SUMMARY:Rockin' Bingo
DESCRIPTION:
URL:https://route65pubngrub.com/calendar/rockin-bingo-4/
LOCATION:Route 65 Pub and Grub\, 18407 Highway 65 NE\, East Bethel\, MN\, 55011\, United States
END:VEVENT
END:VCALENDAR