BEGIN:VCALENDAR
VERSION:2.0
PRODID:-//Route 65 Pub N Grub - ECPv6.15.20//NONSGML v1.0//EN
CALSCALE:GREGORIAN
METHOD:PUBLISH
X-WR-CALNAME:Route 65 Pub N Grub
X-ORIGINAL-URL:https://route65pubngrub.com
X-WR-CALDESC:Events for Route 65 Pub N Grub
REFRESH-INTERVAL;VALUE=DURATION:PT1H
X-Robots-Tag:noindex
X-PUBLISHED-TTL:PT1H
BEGIN:VTIMEZONE
TZID:America/Chicago
BEGIN:DAYLIGHT
TZOFFSETFROM:-0600
TZOFFSETTO:-0500
TZNAME:CDT
DTSTART:20220313T080000
END:DAYLIGHT
BEGIN:STANDARD
TZOFFSETFROM:-0500
TZOFFSETTO:-0600
TZNAME:CST
DTSTART:20221106T070000
END:STANDARD
BEGIN:DAYLIGHT
TZOFFSETFROM:-0600
TZOFFSETTO:-0500
TZNAME:CDT
DTSTART:20230312T080000
END:DAYLIGHT
BEGIN:STANDARD
TZOFFSETFROM:-0500
TZOFFSETTO:-0600
TZNAME:CST
DTSTART:20231105T070000
END:STANDARD
BEGIN:DAYLIGHT
TZOFFSETFROM:-0600
TZOFFSETTO:-0500
TZNAME:CDT
DTSTART:20240310T080000
END:DAYLIGHT
BEGIN:STANDARD
TZOFFSETFROM:-0500
TZOFFSETTO:-0600
TZNAME:CST
DTSTART:20241103T070000
END:STANDARD
END:VTIMEZONE
BEGIN:VEVENT
DTSTART;TZID=America/Chicago:20230603T110000
DTEND;TZID=America/Chicago:20230603T170000
DTSTAMP:20260421T193943
CREATED:20230511T163631Z
LAST-MODIFIED:20230523T174928Z
UID:10000202-1685790000-1685811600@route65pubngrub.com
SUMMARY:MN EMS Charity Ride
DESCRIPTION:  \n \nRegistration begins at 9am at Route 65 Pub and Grub (breakfast available at 8 am on your own) \nPresentation of Colors and Bike Blessing begin at 1030 \nKickstands up promptly at 11 am. \nWin door prizes at rest stops throughout the day. Ride will be ending at approximately 5 pm at Route 65 for dinner\, time with family and friends\, silent auction\, door prizes\, major prize drawings and dancing. \n$25 per bike
URL:https://route65pubngrub.com/calendar/mn-ems-charity-ride/
LOCATION:Route 65 Pub and Grub\, 18407 Highway 65 NE\, East Bethel\, MN\, 55011\, United States
CATEGORIES:Charity Ride
END:VEVENT
END:VCALENDAR