BEGIN:VCALENDAR
VERSION:2.0
PRODID:-//Route 65 Pub N Grub - ECPv6.15.20//NONSGML v1.0//EN
CALSCALE:GREGORIAN
METHOD:PUBLISH
X-ORIGINAL-URL:https://route65pubngrub.com
X-WR-CALDESC:Events for Route 65 Pub N Grub
REFRESH-INTERVAL;VALUE=DURATION:PT1H
X-Robots-Tag:noindex
X-PUBLISHED-TTL:PT1H
BEGIN:VTIMEZONE
TZID:America/Chicago
BEGIN:DAYLIGHT
TZOFFSETFROM:-0600
TZOFFSETTO:-0500
TZNAME:CDT
DTSTART:20240310T080000
END:DAYLIGHT
BEGIN:STANDARD
TZOFFSETFROM:-0500
TZOFFSETTO:-0600
TZNAME:CST
DTSTART:20241103T070000
END:STANDARD
BEGIN:DAYLIGHT
TZOFFSETFROM:-0600
TZOFFSETTO:-0500
TZNAME:CDT
DTSTART:20250309T080000
END:DAYLIGHT
BEGIN:STANDARD
TZOFFSETFROM:-0500
TZOFFSETTO:-0600
TZNAME:CST
DTSTART:20251102T070000
END:STANDARD
BEGIN:DAYLIGHT
TZOFFSETFROM:-0600
TZOFFSETTO:-0500
TZNAME:CDT
DTSTART:20260308T080000
END:DAYLIGHT
BEGIN:STANDARD
TZOFFSETFROM:-0500
TZOFFSETTO:-0600
TZNAME:CST
DTSTART:20261101T070000
END:STANDARD
END:VTIMEZONE
BEGIN:VEVENT
DTSTART;TZID=America/Chicago:20251002T080000
DTEND;TZID=America/Chicago:20251002T170000
DTSTAMP:20260419T164825
CREATED:20251002T165605Z
LAST-MODIFIED:20251002T165605Z
UID:10001181-1759392000-1759424400@route65pubngrub.com
SUMMARY:Battle of the Racks Rib Cook-off
DESCRIPTION:
URL:https://route65pubngrub.com/calendar/battle-of-the-racks-rib-cook-off-2025/
LOCATION:Route 65 Pub and Grub\, 18407 Highway 65 NE\, East Bethel\, MN\, 55011\, United States
CATEGORIES:Contests
END:VEVENT
BEGIN:VEVENT
DTSTART;TZID=America/Chicago:20251003T173000
DTEND;TZID=America/Chicago:20251003T173000
DTSTAMP:20260419T164825
CREATED:20251216T053042Z
LAST-MODIFIED:20251216T053042Z
UID:10001281-1759512600-1759512600@route65pubngrub.com
SUMMARY:Meat Raffle
DESCRIPTION:
URL:https://route65pubngrub.com/calendar/friday-meat-raffle-route-65-pub/2025-10-03/
LOCATION:Route 65 Pub and Grub\, 18407 Highway 65 NE\, East Bethel\, MN\, 55011\, United States
CATEGORIES:Meat Raffle
END:VEVENT
BEGIN:VEVENT
DTSTART;TZID=America/Chicago:20251003T190000
DTEND;TZID=America/Chicago:20251003T190000
DTSTAMP:20260419T164825
CREATED:20250820T165446Z
LAST-MODIFIED:20250820T165446Z
UID:10001156-1759518000-1759518000@route65pubngrub.com
SUMMARY:Rockin' Bingo
DESCRIPTION:
URL:https://route65pubngrub.com/calendar/rockin-bingo-october-3/
LOCATION:Route 65 Pub and Grub\, 18407 Highway 65 NE\, East Bethel\, MN\, 55011\, United States
CATEGORIES:Bingo
END:VEVENT
BEGIN:VEVENT
DTSTART;TZID=America/Chicago:20251004T200000
DTEND;TZID=America/Chicago:20251004T200000
DTSTAMP:20260419T164825
CREATED:20250904T044711Z
LAST-MODIFIED:20250904T044711Z
UID:10001161-1759608000-1759608000@route65pubngrub.com
SUMMARY:Clear Blue Country
DESCRIPTION:
URL:https://route65pubngrub.com/calendar/clear-blue-country-october-4/
LOCATION:MN
CATEGORIES:Live music
END:VEVENT
BEGIN:VEVENT
DTSTART;TZID=America/Chicago:20251005T083000
DTEND;TZID=America/Chicago:20251005T083000
DTSTAMP:20260419T164825
CREATED:20250819T164932Z
LAST-MODIFIED:20250904T050107Z
UID:10001146-1759653000-1759653000@route65pubngrub.com
SUMMARY:Vikings vs Browns
DESCRIPTION:MN Vikings vs Cleveland Browns
URL:https://route65pubngrub.com/calendar/vikings-football-october-5/
LOCATION:Route 65 Pub and Grub\, 18407 Highway 65 NE\, East Bethel\, MN\, 55011\, United States
CATEGORIES:Vikings Football
END:VEVENT
BEGIN:VEVENT
DTSTART;TZID=America/Chicago:20251005T160000
DTEND;TZID=America/Chicago:20251005T160000
DTSTAMP:20260419T164825
CREATED:20251216T053441Z
LAST-MODIFIED:20251216T053441Z
UID:10001354-1759680000-1759680000@route65pubngrub.com
SUMMARY:Meat Raffle
DESCRIPTION:
URL:https://route65pubngrub.com/calendar/sunday-meat-raffle-route-65-pub-2/2025-10-05/
LOCATION:Route 65 Pub and Grub\, 18407 Highway 65 NE\, East Bethel\, MN\, 55011\, United States
CATEGORIES:Meat Raffle
END:VEVENT
BEGIN:VEVENT
DTSTART;TZID=America/Chicago:20251006T190000
DTEND;TZID=America/Chicago:20251006T190000
DTSTAMP:20260419T164825
CREATED:20250922T183117Z
LAST-MODIFIED:20250922T183117Z
UID:10001168-1759777200-1759777200@route65pubngrub.com
SUMMARY:Texas Hold 'Em
DESCRIPTION:
URL:https://route65pubngrub.com/calendar/texas-hold-em-poker-october-6/
LOCATION:Route 65 Pub and Grub\, 18407 Highway 65 NE\, East Bethel\, MN\, 55011\, United States
CATEGORIES:Poker
END:VEVENT
BEGIN:VEVENT
DTSTART;TZID=America/Chicago:20251006T190000
DTEND;TZID=America/Chicago:20251006T190000
DTSTAMP:20260419T164825
CREATED:20251205T172120Z
LAST-MODIFIED:20260408T205435Z
UID:10001546-1759777200-1759777200@route65pubngrub.com
SUMMARY:Texas Hold 'Em Poker
DESCRIPTION:
URL:https://route65pubngrub.com/calendar/texas-hold-em-poker-route-65-pub-east-bethel/2025-10-06/
LOCATION:Route 65 Pub and Grub\, 18407 Highway 65 NE\, East Bethel\, MN\, 55011\, United States
CATEGORIES:Poker
END:VEVENT
BEGIN:VEVENT
DTSTART;TZID=America/Chicago:20251007T170000
DTEND;TZID=America/Chicago:20251007T170000
DTSTAMP:20260419T164825
CREATED:20250922T183445Z
LAST-MODIFIED:20250922T183445Z
UID:10001171-1759856400-1759856400@route65pubngrub.com
SUMMARY:Meat Raffle
DESCRIPTION:
URL:https://route65pubngrub.com/calendar/meat-raffle-october-7/
LOCATION:Route 65 Pub and Grub\, 18407 Highway 65 NE\, East Bethel\, MN\, 55011\, United States
CATEGORIES:Meat Raffle
END:VEVENT
BEGIN:VEVENT
DTSTART;TZID=America/Chicago:20251007T170000
DTEND;TZID=America/Chicago:20251007T170000
DTSTAMP:20260419T164825
CREATED:20251205T173327Z
LAST-MODIFIED:20260403T014100Z
UID:10001527-1759856400-1759856400@route65pubngrub.com
SUMMARY:Meat Raffle
DESCRIPTION:
URL:https://route65pubngrub.com/calendar/meat-raffle-route-65-pub-east-bethel/2025-10-07/
LOCATION:Route 65 Pub and Grub\, 18407 Highway 65 NE\, East Bethel\, MN\, 55011\, United States
CATEGORIES:Meat Raffle
END:VEVENT
BEGIN:VEVENT
DTSTART;TZID=America/Chicago:20251010T173000
DTEND;TZID=America/Chicago:20251010T173000
DTSTAMP:20260419T164825
CREATED:20251216T053042Z
LAST-MODIFIED:20251216T053042Z
UID:10001282-1760117400-1760117400@route65pubngrub.com
SUMMARY:Meat Raffle
DESCRIPTION:
URL:https://route65pubngrub.com/calendar/friday-meat-raffle-route-65-pub/2025-10-10/
LOCATION:Route 65 Pub and Grub\, 18407 Highway 65 NE\, East Bethel\, MN\, 55011\, United States
CATEGORIES:Meat Raffle
END:VEVENT
BEGIN:VEVENT
DTSTART;TZID=America/Chicago:20251010T190000
DTEND;TZID=America/Chicago:20251010T190000
DTSTAMP:20260419T164825
CREATED:20250904T045540Z
LAST-MODIFIED:20250904T045540Z
UID:10001165-1760122800-1760122800@route65pubngrub.com
SUMMARY:Rockin' Bingo
DESCRIPTION:
URL:https://route65pubngrub.com/calendar/rockin-bingo-october-10/
LOCATION:Route 65 Pub and Grub\, 18407 Highway 65 NE\, East Bethel\, MN\, 55011\, United States
CATEGORIES:Bingo
END:VEVENT
BEGIN:VEVENT
DTSTART;TZID=America/Chicago:20251012T160000
DTEND;TZID=America/Chicago:20251012T160000
DTSTAMP:20260419T164825
CREATED:20251216T053441Z
LAST-MODIFIED:20251216T053441Z
UID:10001355-1760284800-1760284800@route65pubngrub.com
SUMMARY:Meat Raffle
DESCRIPTION:
URL:https://route65pubngrub.com/calendar/sunday-meat-raffle-route-65-pub-2/2025-10-12/
LOCATION:Route 65 Pub and Grub\, 18407 Highway 65 NE\, East Bethel\, MN\, 55011\, United States
CATEGORIES:Meat Raffle
END:VEVENT
BEGIN:VEVENT
DTSTART;TZID=America/Chicago:20251013T190000
DTEND;TZID=America/Chicago:20251013T190000
DTSTAMP:20260419T164825
CREATED:20250922T183236Z
LAST-MODIFIED:20250922T183236Z
UID:10001169-1760382000-1760382000@route65pubngrub.com
SUMMARY:Texas Hold 'Em
DESCRIPTION:
URL:https://route65pubngrub.com/calendar/texas-hold-em-october-13/
LOCATION:Route 65 Pub and Grub\, 18407 Highway 65 NE\, East Bethel\, MN\, 55011\, United States
CATEGORIES:Poker
END:VEVENT
BEGIN:VEVENT
DTSTART;TZID=America/Chicago:20251013T190000
DTEND;TZID=America/Chicago:20251013T190000
DTSTAMP:20260419T164825
CREATED:20251205T172120Z
LAST-MODIFIED:20260408T205435Z
UID:10001547-1760382000-1760382000@route65pubngrub.com
SUMMARY:Texas Hold 'Em Poker
DESCRIPTION:
URL:https://route65pubngrub.com/calendar/texas-hold-em-poker-route-65-pub-east-bethel/2025-10-13/
LOCATION:Route 65 Pub and Grub\, 18407 Highway 65 NE\, East Bethel\, MN\, 55011\, United States
CATEGORIES:Poker
END:VEVENT
BEGIN:VEVENT
DTSTART;TZID=America/Chicago:20251014T170000
DTEND;TZID=America/Chicago:20251014T170000
DTSTAMP:20260419T164825
CREATED:20250923T193205Z
LAST-MODIFIED:20250923T193205Z
UID:10001172-1760461200-1760461200@route65pubngrub.com
SUMMARY:Meat Raffle
DESCRIPTION:
URL:https://route65pubngrub.com/calendar/meat-raffle-october-14/
LOCATION:Route 65 Pub and Grub\, 18407 Highway 65 NE\, East Bethel\, MN\, 55011\, United States
CATEGORIES:Meat Raffle
END:VEVENT
BEGIN:VEVENT
DTSTART;TZID=America/Chicago:20251014T170000
DTEND;TZID=America/Chicago:20251014T170000
DTSTAMP:20260419T164825
CREATED:20251205T173327Z
LAST-MODIFIED:20260403T014100Z
UID:10001528-1760461200-1760461200@route65pubngrub.com
SUMMARY:Meat Raffle
DESCRIPTION:
URL:https://route65pubngrub.com/calendar/meat-raffle-route-65-pub-east-bethel/2025-10-14/
LOCATION:Route 65 Pub and Grub\, 18407 Highway 65 NE\, East Bethel\, MN\, 55011\, United States
CATEGORIES:Meat Raffle
END:VEVENT
BEGIN:VEVENT
DTSTART;TZID=America/Chicago:20251017T173000
DTEND;TZID=America/Chicago:20251017T173000
DTSTAMP:20260419T164825
CREATED:20251216T053042Z
LAST-MODIFIED:20251216T053042Z
UID:10001283-1760722200-1760722200@route65pubngrub.com
SUMMARY:Meat Raffle
DESCRIPTION:
URL:https://route65pubngrub.com/calendar/friday-meat-raffle-route-65-pub/2025-10-17/
LOCATION:Route 65 Pub and Grub\, 18407 Highway 65 NE\, East Bethel\, MN\, 55011\, United States
CATEGORIES:Meat Raffle
END:VEVENT
BEGIN:VEVENT
DTSTART;TZID=America/Chicago:20251017T190000
DTEND;TZID=America/Chicago:20251017T190000
DTSTAMP:20260419T164825
CREATED:20250904T045646Z
LAST-MODIFIED:20250904T050022Z
UID:10001166-1760727600-1760727600@route65pubngrub.com
SUMMARY:Rockin' Bingo
DESCRIPTION:
URL:https://route65pubngrub.com/calendar/rockin-bingo-october-17/
LOCATION:Route 65 Pub and Grub\, 18407 Highway 65 NE\, East Bethel\, MN\, 55011\, United States
CATEGORIES:Bingo
END:VEVENT
BEGIN:VEVENT
DTSTART;TZID=America/Chicago:20251018T200000
DTEND;TZID=America/Chicago:20251018T200000
DTSTAMP:20260419T164825
CREATED:20250904T044816Z
LAST-MODIFIED:20250904T044816Z
UID:10001162-1760817600-1760817600@route65pubngrub.com
SUMMARY:DSG
DESCRIPTION:
URL:https://route65pubngrub.com/calendar/dsg/
LOCATION:Route 65 Pub and Grub\, 18407 Highway 65 NE\, East Bethel\, MN\, 55011\, United States
CATEGORIES:Live music
END:VEVENT
BEGIN:VEVENT
DTSTART;TZID=America/Chicago:20251019T120000
DTEND;TZID=America/Chicago:20251019T120000
DTSTAMP:20260419T164825
CREATED:20250819T165134Z
LAST-MODIFIED:20250904T045223Z
UID:10001147-1760875200-1760875200@route65pubngrub.com
SUMMARY:Vikings vs Eagles
DESCRIPTION:
URL:https://route65pubngrub.com/calendar/vikings-football-october-19/
LOCATION:Route 65 Pub and Grub\, 18407 Highway 65 NE\, East Bethel\, MN\, 55011\, United States
CATEGORIES:Vikings Football
END:VEVENT
BEGIN:VEVENT
DTSTART;TZID=America/Chicago:20251019T160000
DTEND;TZID=America/Chicago:20251019T160000
DTSTAMP:20260419T164825
CREATED:20251216T053441Z
LAST-MODIFIED:20251216T053441Z
UID:10001356-1760889600-1760889600@route65pubngrub.com
SUMMARY:Meat Raffle
DESCRIPTION:
URL:https://route65pubngrub.com/calendar/sunday-meat-raffle-route-65-pub-2/2025-10-19/
LOCATION:Route 65 Pub and Grub\, 18407 Highway 65 NE\, East Bethel\, MN\, 55011\, United States
CATEGORIES:Meat Raffle
END:VEVENT
BEGIN:VEVENT
DTSTART;TZID=America/Chicago:20251020T190000
DTEND;TZID=America/Chicago:20251020T190000
DTSTAMP:20260419T164825
CREATED:20250922T183345Z
LAST-MODIFIED:20250922T183345Z
UID:10001170-1760986800-1760986800@route65pubngrub.com
SUMMARY:Texas Hold 'Em
DESCRIPTION:
URL:https://route65pubngrub.com/calendar/texas-hold-em-october-20/
LOCATION:Route 65 Pub and Grub\, 18407 Highway 65 NE\, East Bethel\, MN\, 55011\, United States
CATEGORIES:Poker
END:VEVENT
BEGIN:VEVENT
DTSTART;TZID=America/Chicago:20251020T190000
DTEND;TZID=America/Chicago:20251020T190000
DTSTAMP:20260419T164825
CREATED:20251205T172120Z
LAST-MODIFIED:20260408T205435Z
UID:10001548-1760986800-1760986800@route65pubngrub.com
SUMMARY:Texas Hold 'Em Poker
DESCRIPTION:
URL:https://route65pubngrub.com/calendar/texas-hold-em-poker-route-65-pub-east-bethel/2025-10-20/
LOCATION:Route 65 Pub and Grub\, 18407 Highway 65 NE\, East Bethel\, MN\, 55011\, United States
CATEGORIES:Poker
END:VEVENT
BEGIN:VEVENT
DTSTART;TZID=America/Chicago:20251021T170000
DTEND;TZID=America/Chicago:20251021T170000
DTSTAMP:20260419T164825
CREATED:20250923T193254Z
LAST-MODIFIED:20250923T193254Z
UID:10001173-1761066000-1761066000@route65pubngrub.com
SUMMARY:Meat Raffle
DESCRIPTION:
URL:https://route65pubngrub.com/calendar/meat-raffle-october-21/
LOCATION:Route 65 Pub and Grub\, 18407 Highway 65 NE\, East Bethel\, MN\, 55011\, United States
CATEGORIES:Meat Raffle
END:VEVENT
BEGIN:VEVENT
DTSTART;TZID=America/Chicago:20251021T170000
DTEND;TZID=America/Chicago:20251021T170000
DTSTAMP:20260419T164825
CREATED:20251205T173327Z
LAST-MODIFIED:20260403T014100Z
UID:10001529-1761066000-1761066000@route65pubngrub.com
SUMMARY:Meat Raffle
DESCRIPTION:
URL:https://route65pubngrub.com/calendar/meat-raffle-route-65-pub-east-bethel/2025-10-21/
LOCATION:Route 65 Pub and Grub\, 18407 Highway 65 NE\, East Bethel\, MN\, 55011\, United States
CATEGORIES:Meat Raffle
END:VEVENT
BEGIN:VEVENT
DTSTART;TZID=America/Chicago:20251023T191500
DTEND;TZID=America/Chicago:20251023T191500
DTSTAMP:20260419T164825
CREATED:20250819T165247Z
LAST-MODIFIED:20250904T045133Z
UID:10001148-1761246900-1761246900@route65pubngrub.com
SUMMARY:Vikings vs Chargers
DESCRIPTION:MN Vikings vs Los Angeles Chargers
URL:https://route65pubngrub.com/calendar/vikings-football-october-23/
LOCATION:Route 65 Pub and Grub\, 18407 Highway 65 NE\, East Bethel\, MN\, 55011\, United States
CATEGORIES:Vikings Football
END:VEVENT
BEGIN:VEVENT
DTSTART;TZID=America/Chicago:20251024T173000
DTEND;TZID=America/Chicago:20251024T173000
DTSTAMP:20260419T164825
CREATED:20251216T053042Z
LAST-MODIFIED:20251216T053042Z
UID:10001284-1761327000-1761327000@route65pubngrub.com
SUMMARY:Meat Raffle
DESCRIPTION:
URL:https://route65pubngrub.com/calendar/friday-meat-raffle-route-65-pub/2025-10-24/
LOCATION:Route 65 Pub and Grub\, 18407 Highway 65 NE\, East Bethel\, MN\, 55011\, United States
CATEGORIES:Meat Raffle
END:VEVENT
BEGIN:VEVENT
DTSTART;TZID=America/Chicago:20251024T190000
DTEND;TZID=America/Chicago:20251024T190000
DTSTAMP:20260419T164825
CREATED:20250904T045830Z
LAST-MODIFIED:20250904T045830Z
UID:10001167-1761332400-1761332400@route65pubngrub.com
SUMMARY:Rockin' Bingo
DESCRIPTION:
URL:https://route65pubngrub.com/calendar/rockin-bingo-october-24/
LOCATION:Route 65 Pub and Grub\, 18407 Highway 65 NE\, East Bethel\, MN\, 55011\, United States
CATEGORIES:Bingo
END:VEVENT
BEGIN:VEVENT
DTSTART;TZID=America/Chicago:20251025T200000
DTEND;TZID=America/Chicago:20251025T200000
DTSTAMP:20260419T164825
CREATED:20250904T045001Z
LAST-MODIFIED:20250904T045001Z
UID:10001163-1761422400-1761422400@route65pubngrub.com
SUMMARY:Southern Express
DESCRIPTION:
URL:https://route65pubngrub.com/calendar/southern-express-october-25/
LOCATION:Route 65 Pub and Grub\, 18407 Highway 65 NE\, East Bethel\, MN\, 55011\, United States
CATEGORIES:Live music
END:VEVENT
END:VCALENDAR