BEGIN:VCALENDAR
VERSION:2.0
PRODID:-//Route 65 Pub N Grub - ECPv6.15.20//NONSGML v1.0//EN
CALSCALE:GREGORIAN
METHOD:PUBLISH
X-WR-CALNAME:Route 65 Pub N Grub
X-ORIGINAL-URL:https://route65pubngrub.com
X-WR-CALDESC:Events for Route 65 Pub N Grub
REFRESH-INTERVAL;VALUE=DURATION:PT1H
X-Robots-Tag:noindex
X-PUBLISHED-TTL:PT1H
BEGIN:VTIMEZONE
TZID:America/Chicago
BEGIN:DAYLIGHT
TZOFFSETFROM:-0600
TZOFFSETTO:-0500
TZNAME:CDT
DTSTART:20240310T080000
END:DAYLIGHT
BEGIN:STANDARD
TZOFFSETFROM:-0500
TZOFFSETTO:-0600
TZNAME:CST
DTSTART:20241103T070000
END:STANDARD
BEGIN:DAYLIGHT
TZOFFSETFROM:-0600
TZOFFSETTO:-0500
TZNAME:CDT
DTSTART:20250309T080000
END:DAYLIGHT
BEGIN:STANDARD
TZOFFSETFROM:-0500
TZOFFSETTO:-0600
TZNAME:CST
DTSTART:20251102T070000
END:STANDARD
BEGIN:DAYLIGHT
TZOFFSETFROM:-0600
TZOFFSETTO:-0500
TZNAME:CDT
DTSTART:20260308T080000
END:DAYLIGHT
BEGIN:STANDARD
TZOFFSETFROM:-0500
TZOFFSETTO:-0600
TZNAME:CST
DTSTART:20261101T070000
END:STANDARD
END:VTIMEZONE
BEGIN:VEVENT
DTSTART;TZID=America/Chicago:20250301T110000
DTEND;TZID=America/Chicago:20250301T110000
DTSTAMP:20260420T121217
CREATED:20250202T234619Z
LAST-MODIFIED:20250301T183130Z
UID:10001008-1740826800-1740826800@route65pubngrub.com
SUMMARY:Chad Hanson Pool Tournament
DESCRIPTION:SAVE THE DATE: MARCH 1\, 2025\nCHAD HANSON’S ANNUAL POOL TOURNAMENT\nTIME: 11:00-12:00 sign up\nStart promptly 12:30\nIt will be scotch doubles format. Draw for partners\, best 2 out of 3 games will move forward. Winners and losers bracket. 20 dollars entry fee and all monies go to winners depending on how many entries.
URL:https://route65pubngrub.com/calendar/chad-hanson-pool-tournament/
CATEGORIES:Tournament
END:VEVENT
END:VCALENDAR