BEGIN:VCALENDAR
VERSION:2.0
PRODID:-//Route 65 Pub N Grub - ECPv6.15.20//NONSGML v1.0//EN
CALSCALE:GREGORIAN
METHOD:PUBLISH
X-WR-CALNAME:Route 65 Pub N Grub
X-ORIGINAL-URL:https://route65pubngrub.com
X-WR-CALDESC:Events for Route 65 Pub N Grub
REFRESH-INTERVAL;VALUE=DURATION:PT1H
X-Robots-Tag:noindex
X-PUBLISHED-TTL:PT1H
BEGIN:VTIMEZONE
TZID:America/Chicago
BEGIN:DAYLIGHT
TZOFFSETFROM:-0600
TZOFFSETTO:-0500
TZNAME:CDT
DTSTART:20250309T080000
END:DAYLIGHT
BEGIN:STANDARD
TZOFFSETFROM:-0500
TZOFFSETTO:-0600
TZNAME:CST
DTSTART:20251102T070000
END:STANDARD
BEGIN:DAYLIGHT
TZOFFSETFROM:-0600
TZOFFSETTO:-0500
TZNAME:CDT
DTSTART:20260308T080000
END:DAYLIGHT
BEGIN:STANDARD
TZOFFSETFROM:-0500
TZOFFSETTO:-0600
TZNAME:CST
DTSTART:20261101T070000
END:STANDARD
BEGIN:DAYLIGHT
TZOFFSETFROM:-0600
TZOFFSETTO:-0500
TZNAME:CDT
DTSTART:20270314T080000
END:DAYLIGHT
BEGIN:STANDARD
TZOFFSETFROM:-0500
TZOFFSETTO:-0600
TZNAME:CST
DTSTART:20271107T070000
END:STANDARD
END:VTIMEZONE
BEGIN:VEVENT
DTSTART;TZID=America/Chicago:20260703T173000
DTEND;TZID=America/Chicago:20260703T173000
DTSTAMP:20260419T091405
CREATED:20251216T053042Z
LAST-MODIFIED:20251216T053042Z
UID:10001320-1783099800-1783099800@route65pubngrub.com
SUMMARY:Meat Raffle
DESCRIPTION:
URL:https://route65pubngrub.com/calendar/friday-meat-raffle-route-65-pub/2026-07-03/
LOCATION:Route 65 Pub and Grub\, 18407 Highway 65 NE\, East Bethel\, MN\, 55011\, United States
CATEGORIES:Meat Raffle
END:VEVENT
BEGIN:VEVENT
DTSTART;TZID=America/Chicago:20260705T160000
DTEND;TZID=America/Chicago:20260705T160000
DTSTAMP:20260419T091405
CREATED:20251216T053441Z
LAST-MODIFIED:20251216T053441Z
UID:10001393-1783267200-1783267200@route65pubngrub.com
SUMMARY:Meat Raffle
DESCRIPTION:
URL:https://route65pubngrub.com/calendar/sunday-meat-raffle-route-65-pub-2/2026-07-05/
LOCATION:Route 65 Pub and Grub\, 18407 Highway 65 NE\, East Bethel\, MN\, 55011\, United States
CATEGORIES:Meat Raffle
END:VEVENT
BEGIN:VEVENT
DTSTART;TZID=America/Chicago:20260710T173000
DTEND;TZID=America/Chicago:20260710T173000
DTSTAMP:20260419T091405
CREATED:20251216T053042Z
LAST-MODIFIED:20251216T053042Z
UID:10001321-1783704600-1783704600@route65pubngrub.com
SUMMARY:Meat Raffle
DESCRIPTION:
URL:https://route65pubngrub.com/calendar/friday-meat-raffle-route-65-pub/2026-07-10/
LOCATION:Route 65 Pub and Grub\, 18407 Highway 65 NE\, East Bethel\, MN\, 55011\, United States
CATEGORIES:Meat Raffle
END:VEVENT
BEGIN:VEVENT
DTSTART;TZID=America/Chicago:20260712T160000
DTEND;TZID=America/Chicago:20260712T160000
DTSTAMP:20260419T091405
CREATED:20251216T053441Z
LAST-MODIFIED:20251216T053441Z
UID:10001394-1783872000-1783872000@route65pubngrub.com
SUMMARY:Meat Raffle
DESCRIPTION:
URL:https://route65pubngrub.com/calendar/sunday-meat-raffle-route-65-pub-2/2026-07-12/
LOCATION:Route 65 Pub and Grub\, 18407 Highway 65 NE\, East Bethel\, MN\, 55011\, United States
CATEGORIES:Meat Raffle
END:VEVENT
BEGIN:VEVENT
DTSTART;TZID=America/Chicago:20260717T173000
DTEND;TZID=America/Chicago:20260717T173000
DTSTAMP:20260419T091405
CREATED:20251216T053042Z
LAST-MODIFIED:20251216T053042Z
UID:10001322-1784309400-1784309400@route65pubngrub.com
SUMMARY:Meat Raffle
DESCRIPTION:
URL:https://route65pubngrub.com/calendar/friday-meat-raffle-route-65-pub/2026-07-17/
LOCATION:Route 65 Pub and Grub\, 18407 Highway 65 NE\, East Bethel\, MN\, 55011\, United States
CATEGORIES:Meat Raffle
END:VEVENT
BEGIN:VEVENT
DTSTART;TZID=America/Chicago:20260719T160000
DTEND;TZID=America/Chicago:20260719T160000
DTSTAMP:20260419T091405
CREATED:20251216T053441Z
LAST-MODIFIED:20251216T053441Z
UID:10001395-1784476800-1784476800@route65pubngrub.com
SUMMARY:Meat Raffle
DESCRIPTION:
URL:https://route65pubngrub.com/calendar/sunday-meat-raffle-route-65-pub-2/2026-07-19/
LOCATION:Route 65 Pub and Grub\, 18407 Highway 65 NE\, East Bethel\, MN\, 55011\, United States
CATEGORIES:Meat Raffle
END:VEVENT
BEGIN:VEVENT
DTSTART;TZID=America/Chicago:20260724T173000
DTEND;TZID=America/Chicago:20260724T173000
DTSTAMP:20260419T091405
CREATED:20251216T053042Z
LAST-MODIFIED:20251216T053042Z
UID:10001323-1784914200-1784914200@route65pubngrub.com
SUMMARY:Meat Raffle
DESCRIPTION:
URL:https://route65pubngrub.com/calendar/friday-meat-raffle-route-65-pub/2026-07-24/
LOCATION:Route 65 Pub and Grub\, 18407 Highway 65 NE\, East Bethel\, MN\, 55011\, United States
CATEGORIES:Meat Raffle
END:VEVENT
BEGIN:VEVENT
DTSTART;TZID=America/Chicago:20260726T160000
DTEND;TZID=America/Chicago:20260726T160000
DTSTAMP:20260419T091405
CREATED:20251216T053441Z
LAST-MODIFIED:20251216T053441Z
UID:10001396-1785081600-1785081600@route65pubngrub.com
SUMMARY:Meat Raffle
DESCRIPTION:
URL:https://route65pubngrub.com/calendar/sunday-meat-raffle-route-65-pub-2/2026-07-26/
LOCATION:Route 65 Pub and Grub\, 18407 Highway 65 NE\, East Bethel\, MN\, 55011\, United States
CATEGORIES:Meat Raffle
END:VEVENT
BEGIN:VEVENT
DTSTART;TZID=America/Chicago:20260731T173000
DTEND;TZID=America/Chicago:20260731T173000
DTSTAMP:20260419T091405
CREATED:20251216T053042Z
LAST-MODIFIED:20251216T053042Z
UID:10001324-1785519000-1785519000@route65pubngrub.com
SUMMARY:Meat Raffle
DESCRIPTION:
URL:https://route65pubngrub.com/calendar/friday-meat-raffle-route-65-pub/2026-07-31/
LOCATION:Route 65 Pub and Grub\, 18407 Highway 65 NE\, East Bethel\, MN\, 55011\, United States
CATEGORIES:Meat Raffle
END:VEVENT
END:VCALENDAR