BEGIN:VCALENDAR
VERSION:2.0
PRODID:-//Route 65 Pub N Grub - ECPv6.15.20//NONSGML v1.0//EN
CALSCALE:GREGORIAN
METHOD:PUBLISH
X-ORIGINAL-URL:https://route65pubngrub.com
X-WR-CALDESC:Events for Route 65 Pub N Grub
REFRESH-INTERVAL;VALUE=DURATION:PT1H
X-Robots-Tag:noindex
X-PUBLISHED-TTL:PT1H
BEGIN:VTIMEZONE
TZID:America/Chicago
BEGIN:DAYLIGHT
TZOFFSETFROM:-0600
TZOFFSETTO:-0500
TZNAME:CDT
DTSTART:20240310T080000
END:DAYLIGHT
BEGIN:STANDARD
TZOFFSETFROM:-0500
TZOFFSETTO:-0600
TZNAME:CST
DTSTART:20241103T070000
END:STANDARD
BEGIN:DAYLIGHT
TZOFFSETFROM:-0600
TZOFFSETTO:-0500
TZNAME:CDT
DTSTART:20250309T080000
END:DAYLIGHT
BEGIN:STANDARD
TZOFFSETFROM:-0500
TZOFFSETTO:-0600
TZNAME:CST
DTSTART:20251102T070000
END:STANDARD
BEGIN:DAYLIGHT
TZOFFSETFROM:-0600
TZOFFSETTO:-0500
TZNAME:CDT
DTSTART:20260308T080000
END:DAYLIGHT
BEGIN:STANDARD
TZOFFSETFROM:-0500
TZOFFSETTO:-0600
TZNAME:CST
DTSTART:20261101T070000
END:STANDARD
END:VTIMEZONE
BEGIN:VEVENT
DTSTART;TZID=America/Chicago:20251101T200000
DTEND;TZID=America/Chicago:20251101T200000
DTSTAMP:20260422T130142
CREATED:20251020T175206Z
LAST-MODIFIED:20251020T175206Z
UID:10001182-1762027200-1762027200@route65pubngrub.com
SUMMARY:Flying Train Wreck
DESCRIPTION:
URL:https://route65pubngrub.com/calendar/flying-train-wreck-3/
LOCATION:Route 65 Pub and Grub\, 18407 Highway 65 NE\, East Bethel\, MN\, 55011\, United States
CATEGORIES:Live music
END:VEVENT
BEGIN:VEVENT
DTSTART;TZID=America/Chicago:20251108T200000
DTEND;TZID=America/Chicago:20251108T200000
DTSTAMP:20260422T130142
CREATED:20251020T175328Z
LAST-MODIFIED:20251020T175328Z
UID:10001183-1762632000-1762632000@route65pubngrub.com
SUMMARY:Drop Tailgate
DESCRIPTION:
URL:https://route65pubngrub.com/calendar/drop-tailgate-6/
LOCATION:Route 65 Pub and Grub\, 18407 Highway 65 NE\, East Bethel\, MN\, 55011\, United States
CATEGORIES:Live music
END:VEVENT
BEGIN:VEVENT
DTSTART;TZID=America/Chicago:20251115T200000
DTEND;TZID=America/Chicago:20251115T200000
DTSTAMP:20260422T130142
CREATED:20251020T175444Z
LAST-MODIFIED:20251020T175444Z
UID:10001184-1763236800-1763236800@route65pubngrub.com
SUMMARY:Nowhere Men
DESCRIPTION:
URL:https://route65pubngrub.com/calendar/nowhere-men-november-15/
LOCATION:Route 65 Pub and Grub\, 18407 Highway 65 NE\, East Bethel\, MN\, 55011\, United States
CATEGORIES:Live music
END:VEVENT
BEGIN:VEVENT
DTSTART;TZID=America/Chicago:20251118T170000
DTEND;TZID=America/Chicago:20251118T170000
DTSTAMP:20260422T130142
CREATED:20251107T042245Z
LAST-MODIFIED:20251107T042245Z
UID:10001197-1763485200-1763485200@route65pubngrub.com
SUMMARY:Meat Raffle
DESCRIPTION:
URL:https://route65pubngrub.com/calendar/meat-raffle-november-18/
LOCATION:Route 65 Pub and Grub\, 18407 Highway 65 NE\, East Bethel\, MN\, 55011\, United States
CATEGORIES:Live music
END:VEVENT
BEGIN:VEVENT
DTSTART;TZID=America/Chicago:20251122T200000
DTEND;TZID=America/Chicago:20251122T200000
DTSTAMP:20260422T130142
CREATED:20251020T175951Z
LAST-MODIFIED:20251020T175951Z
UID:10001185-1763841600-1763841600@route65pubngrub.com
SUMMARY:Ledfoot Larry
DESCRIPTION:
URL:https://route65pubngrub.com/calendar/ledfoot-larry-november-22/
LOCATION:Route 65 Pub and Grub\, 18407 Highway 65 NE\, East Bethel\, MN\, 55011\, United States
CATEGORIES:Live music
END:VEVENT
BEGIN:VEVENT
DTSTART;TZID=America/Chicago:20251129T200000
DTEND;TZID=America/Chicago:20251129T200000
DTSTAMP:20260422T130142
CREATED:20251020T180105Z
LAST-MODIFIED:20251020T180105Z
UID:10001186-1764446400-1764446400@route65pubngrub.com
SUMMARY:Hollywood Blvd
DESCRIPTION:
URL:https://route65pubngrub.com/calendar/hollywood-blvd-november-29/
LOCATION:Route 65 Pub and Grub\, 18407 Highway 65 NE\, East Bethel\, MN\, 55011\, United States
CATEGORIES:Live music
END:VEVENT
END:VCALENDAR