BEGIN:VCALENDAR
VERSION:2.0
PRODID:-//Route 65 Pub N Grub - ECPv6.15.20//NONSGML v1.0//EN
CALSCALE:GREGORIAN
METHOD:PUBLISH
X-WR-CALNAME:Route 65 Pub N Grub
X-ORIGINAL-URL:https://route65pubngrub.com
X-WR-CALDESC:Events for Route 65 Pub N Grub
REFRESH-INTERVAL;VALUE=DURATION:PT1H
X-Robots-Tag:noindex
X-PUBLISHED-TTL:PT1H
BEGIN:VTIMEZONE
TZID:America/Chicago
BEGIN:DAYLIGHT
TZOFFSETFROM:-0600
TZOFFSETTO:-0500
TZNAME:CDT
DTSTART:20240310T080000
END:DAYLIGHT
BEGIN:STANDARD
TZOFFSETFROM:-0500
TZOFFSETTO:-0600
TZNAME:CST
DTSTART:20241103T070000
END:STANDARD
BEGIN:DAYLIGHT
TZOFFSETFROM:-0600
TZOFFSETTO:-0500
TZNAME:CDT
DTSTART:20250309T080000
END:DAYLIGHT
BEGIN:STANDARD
TZOFFSETFROM:-0500
TZOFFSETTO:-0600
TZNAME:CST
DTSTART:20251102T070000
END:STANDARD
BEGIN:DAYLIGHT
TZOFFSETFROM:-0600
TZOFFSETTO:-0500
TZNAME:CDT
DTSTART:20260308T080000
END:DAYLIGHT
BEGIN:STANDARD
TZOFFSETFROM:-0500
TZOFFSETTO:-0600
TZNAME:CST
DTSTART:20261101T070000
END:STANDARD
END:VTIMEZONE
BEGIN:VEVENT
DTSTART;TZID=America/Chicago:20250906T200000
DTEND;TZID=America/Chicago:20250906T200000
DTSTAMP:20260422T154748
CREATED:20250820T164308Z
LAST-MODIFIED:20250820T164744Z
UID:10001150-1757188800-1757188800@route65pubngrub.com
SUMMARY:Side Two
DESCRIPTION:
URL:https://route65pubngrub.com/calendar/side-two-september-6/
LOCATION:Route 65 Pub and Grub\, 18407 Highway 65 NE\, East Bethel\, MN\, 55011\, United States
CATEGORIES:Live music
END:VEVENT
BEGIN:VEVENT
DTSTART;TZID=America/Chicago:20250907T020000
DTEND;TZID=America/Chicago:20250907T140000
DTSTAMP:20260422T154748
CREATED:20250820T164928Z
LAST-MODIFIED:20250820T164928Z
UID:10001154-1757210400-1757253600@route65pubngrub.com
SUMMARY:Jul & the Chrome Wheels
DESCRIPTION:
URL:https://route65pubngrub.com/calendar/jul-the-chrome-wheels-september-7/
LOCATION:Route 65 Pub and Grub\, 18407 Highway 65 NE\, East Bethel\, MN\, 55011\, United States
CATEGORIES:Live music,Patio Bands
END:VEVENT
BEGIN:VEVENT
DTSTART;TZID=America/Chicago:20250913T200000
DTEND;TZID=America/Chicago:20250913T200000
DTSTAMP:20260422T154748
CREATED:20250820T164422Z
LAST-MODIFIED:20250912T184257Z
UID:10001151-1757793600-1757793600@route65pubngrub.com
SUMMARY:Fire Brand
DESCRIPTION:
URL:https://route65pubngrub.com/calendar/fire-brand-september-13/
LOCATION:Route 65 Pub and Grub\, 18407 Highway 65 NE\, East Bethel\, MN\, 55011\, United States
CATEGORIES:Live music
END:VEVENT
BEGIN:VEVENT
DTSTART;TZID=America/Chicago:20250920T200000
DTEND;TZID=America/Chicago:20250920T210000
DTSTAMP:20260422T154748
CREATED:20250820T164521Z
LAST-MODIFIED:20250820T164521Z
UID:10001152-1758398400-1758402000@route65pubngrub.com
SUMMARY:Blackout
DESCRIPTION:
URL:https://route65pubngrub.com/calendar/blackout-september-20/
LOCATION:Route 65 Pub and Grub\, 18407 Highway 65 NE\, East Bethel\, MN\, 55011\, United States
CATEGORIES:Live music
END:VEVENT
BEGIN:VEVENT
DTSTART;TZID=America/Chicago:20250921T120000
DTEND;TZID=America/Chicago:20250921T120000
DTSTAMP:20260422T154748
CREATED:20250820T165119Z
LAST-MODIFIED:20250820T165119Z
UID:10001155-1758456000-1758456000@route65pubngrub.com
SUMMARY:Southern Express
DESCRIPTION:
URL:https://route65pubngrub.com/calendar/southern-express-september-21/
LOCATION:Route 65 Pub and Grub\, 18407 Highway 65 NE\, East Bethel\, MN\, 55011\, United States
CATEGORIES:Bike Show,Live music
END:VEVENT
END:VCALENDAR