BEGIN:VCALENDAR
VERSION:2.0
PRODID:-//Route 65 Pub N Grub - ECPv6.15.20//NONSGML v1.0//EN
CALSCALE:GREGORIAN
METHOD:PUBLISH
X-ORIGINAL-URL:https://route65pubngrub.com
X-WR-CALDESC:Events for Route 65 Pub N Grub
REFRESH-INTERVAL;VALUE=DURATION:PT1H
X-Robots-Tag:noindex
X-PUBLISHED-TTL:PT1H
BEGIN:VTIMEZONE
TZID:America/Chicago
BEGIN:DAYLIGHT
TZOFFSETFROM:-0600
TZOFFSETTO:-0500
TZNAME:CDT
DTSTART:20250309T080000
END:DAYLIGHT
BEGIN:STANDARD
TZOFFSETFROM:-0500
TZOFFSETTO:-0600
TZNAME:CST
DTSTART:20251102T070000
END:STANDARD
BEGIN:DAYLIGHT
TZOFFSETFROM:-0600
TZOFFSETTO:-0500
TZNAME:CDT
DTSTART:20260308T080000
END:DAYLIGHT
BEGIN:STANDARD
TZOFFSETFROM:-0500
TZOFFSETTO:-0600
TZNAME:CST
DTSTART:20261101T070000
END:STANDARD
BEGIN:DAYLIGHT
TZOFFSETFROM:-0600
TZOFFSETTO:-0500
TZNAME:CDT
DTSTART:20270314T080000
END:DAYLIGHT
BEGIN:STANDARD
TZOFFSETFROM:-0500
TZOFFSETTO:-0600
TZNAME:CST
DTSTART:20271107T070000
END:STANDARD
END:VTIMEZONE
BEGIN:VEVENT
DTSTART;TZID=America/Chicago:20260102T190000
DTEND;TZID=America/Chicago:20260102T190000
DTSTAMP:20260421T004946
CREATED:20251205T170410Z
LAST-MODIFIED:20260102T222214Z
UID:10001221-1767380400-1767380400@route65pubngrub.com
SUMMARY:Rockin' Bingo
DESCRIPTION:
URL:https://route65pubngrub.com/calendar/rockin-bingo-route-65-pub-east-bethel/2026-01-02/
LOCATION:Route 65 Pub and Grub\, 18407 Highway 65 NE\, East Bethel\, MN\, 55011\, United States
CATEGORIES:Bingo
END:VEVENT
BEGIN:VEVENT
DTSTART;TZID=America/Chicago:20260109T190000
DTEND;TZID=America/Chicago:20260109T190000
DTSTAMP:20260421T004946
CREATED:20251205T170410Z
LAST-MODIFIED:20260102T222214Z
UID:10001222-1767985200-1767985200@route65pubngrub.com
SUMMARY:Rockin' Bingo
DESCRIPTION:
URL:https://route65pubngrub.com/calendar/rockin-bingo-route-65-pub-east-bethel/2026-01-09/
LOCATION:Route 65 Pub and Grub\, 18407 Highway 65 NE\, East Bethel\, MN\, 55011\, United States
CATEGORIES:Bingo
END:VEVENT
BEGIN:VEVENT
DTSTART;TZID=America/Chicago:20260116T190000
DTEND;TZID=America/Chicago:20260116T190000
DTSTAMP:20260421T004946
CREATED:20260211T064530Z
LAST-MODIFIED:20260211T064531Z
UID:10001223-1768590000-1768590000@route65pubngrub.com
SUMMARY:Pre-Valentine Bingo
DESCRIPTION:
URL:https://route65pubngrub.com/calendar/pre-valentine-bingo-route-65-pub-east-bethel/
LOCATION:Route 65 Pub and Grub\, 18407 Highway 65 NE\, East Bethel\, MN\, 55011\, United States
CATEGORIES:Bingo
END:VEVENT
BEGIN:VEVENT
DTSTART;TZID=America/Chicago:20260123T190000
DTEND;TZID=America/Chicago:20260123T190000
DTSTAMP:20260421T004946
CREATED:20260211T064530Z
LAST-MODIFIED:20260211T064531Z
UID:10001224-1769194800-1769194800@route65pubngrub.com
SUMMARY:Pre-Valentine Bingo
DESCRIPTION:
URL:https://route65pubngrub.com/calendar/pre-valentine-bingo-route-65-pub-east-bethel/
LOCATION:Route 65 Pub and Grub\, 18407 Highway 65 NE\, East Bethel\, MN\, 55011\, United States
CATEGORIES:Bingo
END:VEVENT
BEGIN:VEVENT
DTSTART;TZID=America/Chicago:20260130T190000
DTEND;TZID=America/Chicago:20260130T190000
DTSTAMP:20260421T004946
CREATED:20260211T064530Z
LAST-MODIFIED:20260211T064531Z
UID:10001225-1769799600-1769799600@route65pubngrub.com
SUMMARY:Pre-Valentine Bingo
DESCRIPTION:
URL:https://route65pubngrub.com/calendar/pre-valentine-bingo-route-65-pub-east-bethel/
LOCATION:Route 65 Pub and Grub\, 18407 Highway 65 NE\, East Bethel\, MN\, 55011\, United States
CATEGORIES:Bingo
END:VEVENT
END:VCALENDAR