BEGIN:VCALENDAR
VERSION:2.0
PRODID:-//Route 65 Pub N Grub - ECPv6.15.20//NONSGML v1.0//EN
CALSCALE:GREGORIAN
METHOD:PUBLISH
X-ORIGINAL-URL:https://route65pubngrub.com
X-WR-CALDESC:Events for Route 65 Pub N Grub
REFRESH-INTERVAL;VALUE=DURATION:PT1H
X-Robots-Tag:noindex
X-PUBLISHED-TTL:PT1H
BEGIN:VTIMEZONE
TZID:America/Chicago
BEGIN:DAYLIGHT
TZOFFSETFROM:-0600
TZOFFSETTO:-0500
TZNAME:CDT
DTSTART:20240310T080000
END:DAYLIGHT
BEGIN:STANDARD
TZOFFSETFROM:-0500
TZOFFSETTO:-0600
TZNAME:CST
DTSTART:20241103T070000
END:STANDARD
BEGIN:DAYLIGHT
TZOFFSETFROM:-0600
TZOFFSETTO:-0500
TZNAME:CDT
DTSTART:20250309T080000
END:DAYLIGHT
BEGIN:STANDARD
TZOFFSETFROM:-0500
TZOFFSETTO:-0600
TZNAME:CST
DTSTART:20251102T070000
END:STANDARD
BEGIN:DAYLIGHT
TZOFFSETFROM:-0600
TZOFFSETTO:-0500
TZNAME:CDT
DTSTART:20260308T080000
END:DAYLIGHT
BEGIN:STANDARD
TZOFFSETFROM:-0500
TZOFFSETTO:-0600
TZNAME:CST
DTSTART:20261101T070000
END:STANDARD
END:VTIMEZONE
BEGIN:VEVENT
DTSTART;TZID=America/Chicago:20250207T190000
DTEND;TZID=America/Chicago:20250207T190000
DTSTAMP:20260421T170148
CREATED:20241208T222227Z
LAST-MODIFIED:20251205T172838Z
UID:10000703-1738954800-1738954800@route65pubngrub.com
SUMMARY:Rockin' Bingo
DESCRIPTION:
URL:https://route65pubngrub.com/calendar/rockin-bingo-january-31/2025-02-07/
LOCATION:Route 65 Pub and Grub\, 18407 Highway 65 NE\, East Bethel\, MN\, 55011\, United States
CATEGORIES:Bingo
END:VEVENT
BEGIN:VEVENT
DTSTART;TZID=America/Chicago:20250207T190000
DTEND;TZID=America/Chicago:20250207T190000
DTSTAMP:20260421T170148
CREATED:20250618T151741Z
LAST-MODIFIED:20250618T151741Z
UID:10001087-1738954800-1738954800@route65pubngrub.com
SUMMARY:Rockin' Bingo
DESCRIPTION:
URL:https://route65pubngrub.com/calendar/rockin-bingo-february-7/
LOCATION:Route 65 Pub and Grub\, 18407 Highway 65 NE\, East Bethel\, MN\, 55011\, United States
CATEGORIES:Bingo
END:VEVENT
BEGIN:VEVENT
DTSTART;TZID=America/Chicago:20250207T190000
DTEND;TZID=America/Chicago:20250207T190000
DTSTAMP:20260421T170148
CREATED:20251205T172347Z
LAST-MODIFIED:20251205T172348Z
UID:10000746-1738954800-1738954800@route65pubngrub.com
SUMMARY:Rockin' Bingo
DESCRIPTION:
URL:https://route65pubngrub.com/calendar/rockin-bingo-january-31-2/2025-02-07/
LOCATION:Route 65 Pub and Grub\, 18407 Highway 65 NE\, East Bethel\, MN\, 55011\, United States
CATEGORIES:Bingo
END:VEVENT
BEGIN:VEVENT
DTSTART;TZID=America/Chicago:20250207T190000
DTEND;TZID=America/Chicago:20250207T190000
DTSTAMP:20260421T170148
CREATED:20251205T172628Z
LAST-MODIFIED:20251205T172629Z
UID:10000741-1738954800-1738954800@route65pubngrub.com
SUMMARY:Rockin' Bingo
DESCRIPTION:
URL:https://route65pubngrub.com/calendar/rockin-bingo-january-31-3/2025-02-07/
LOCATION:Route 65 Pub and Grub\, 18407 Highway 65 NE\, East Bethel\, MN\, 55011\, United States
CATEGORIES:Bingo
END:VEVENT
BEGIN:VEVENT
DTSTART;TZID=America/Chicago:20250214T190000
DTEND;TZID=America/Chicago:20250214T190000
DTSTAMP:20260421T170148
CREATED:20250618T151653Z
LAST-MODIFIED:20250618T151653Z
UID:10001086-1739559600-1739559600@route65pubngrub.com
SUMMARY:Rockin' Bingo
DESCRIPTION:
URL:https://route65pubngrub.com/calendar/rockin-bingo-february-14/
LOCATION:Route 65 Pub and Grub\, 18407 Highway 65 NE\, East Bethel\, MN\, 55011\, United States
CATEGORIES:Bingo
END:VEVENT
BEGIN:VEVENT
DTSTART;TZID=America/Chicago:20250214T190000
DTEND;TZID=America/Chicago:20250214T190000
DTSTAMP:20260421T170148
CREATED:20251205T172628Z
LAST-MODIFIED:20251205T172629Z
UID:10001255-1739559600-1739559600@route65pubngrub.com
SUMMARY:Rockin' Bingo
DESCRIPTION:
URL:https://route65pubngrub.com/calendar/rockin-bingo-january-31-3/2025-02-14/
LOCATION:Route 65 Pub and Grub\, 18407 Highway 65 NE\, East Bethel\, MN\, 55011\, United States
CATEGORIES:Bingo
END:VEVENT
BEGIN:VEVENT
DTSTART;TZID=America/Chicago:20250221T190000
DTEND;TZID=America/Chicago:20250221T190000
DTSTAMP:20260421T170148
CREATED:20250618T151600Z
LAST-MODIFIED:20250618T151600Z
UID:10001085-1740164400-1740164400@route65pubngrub.com
SUMMARY:Rockin' Bingo
DESCRIPTION:
URL:https://route65pubngrub.com/calendar/rockin-bingo-february-21/
LOCATION:Route 65 Pub and Grub\, 18407 Highway 65 NE\, East Bethel\, MN\, 55011\, United States
CATEGORIES:Bingo
END:VEVENT
BEGIN:VEVENT
DTSTART;TZID=America/Chicago:20250228T190000
DTEND;TZID=America/Chicago:20250228T190000
DTSTAMP:20260421T170148
CREATED:20250618T151440Z
LAST-MODIFIED:20250618T151440Z
UID:10001084-1740769200-1740769200@route65pubngrub.com
SUMMARY:Rockin' Bingo
DESCRIPTION:
URL:https://route65pubngrub.com/calendar/rockin-bingo-60/
LOCATION:Route 65 Pub and Grub\, 18407 Highway 65 NE\, East Bethel\, MN\, 55011\, United States
CATEGORIES:Bingo
END:VEVENT
END:VCALENDAR