BEGIN:VCALENDAR
VERSION:2.0
PRODID:-//Route 65 Pub N Grub - ECPv6.15.20//NONSGML v1.0//EN
CALSCALE:GREGORIAN
METHOD:PUBLISH
X-ORIGINAL-URL:https://route65pubngrub.com
X-WR-CALDESC:Events for Route 65 Pub N Grub
REFRESH-INTERVAL;VALUE=DURATION:PT1H
X-Robots-Tag:noindex
X-PUBLISHED-TTL:PT1H
BEGIN:VTIMEZONE
TZID:America/Chicago
BEGIN:DAYLIGHT
TZOFFSETFROM:-0600
TZOFFSETTO:-0500
TZNAME:CDT
DTSTART:20240310T080000
END:DAYLIGHT
BEGIN:STANDARD
TZOFFSETFROM:-0500
TZOFFSETTO:-0600
TZNAME:CST
DTSTART:20241103T070000
END:STANDARD
BEGIN:DAYLIGHT
TZOFFSETFROM:-0600
TZOFFSETTO:-0500
TZNAME:CDT
DTSTART:20250309T080000
END:DAYLIGHT
BEGIN:STANDARD
TZOFFSETFROM:-0500
TZOFFSETTO:-0600
TZNAME:CST
DTSTART:20251102T070000
END:STANDARD
BEGIN:DAYLIGHT
TZOFFSETFROM:-0600
TZOFFSETTO:-0500
TZNAME:CDT
DTSTART:20260308T080000
END:DAYLIGHT
BEGIN:STANDARD
TZOFFSETFROM:-0500
TZOFFSETTO:-0600
TZNAME:CST
DTSTART:20261101T070000
END:STANDARD
END:VTIMEZONE
BEGIN:VEVENT
DTSTART;TZID=America/Chicago:20251221T120000
DTEND;TZID=America/Chicago:20251221T120000
DTSTAMP:20260419T151458
CREATED:20251205T174052Z
LAST-MODIFIED:20251205T174052Z
UID:10001279-1766318400-1766318400@route65pubngrub.com
SUMMARY:Vikings vs NY Giants
DESCRIPTION:
URL:https://route65pubngrub.com/calendar/vikings-vs-ny-giants/
LOCATION:Route 65 Pub and Grub\, 18407 Highway 65 NE\, East Bethel\, MN\, 55011\, United States
CATEGORIES:Vikings Football
END:VEVENT
BEGIN:VEVENT
DTSTART;TZID=America/Chicago:20251221T160000
DTEND;TZID=America/Chicago:20251221T160000
DTSTAMP:20260419T151458
CREATED:20251216T053441Z
LAST-MODIFIED:20251216T053441Z
UID:10001365-1766332800-1766332800@route65pubngrub.com
SUMMARY:Meat Raffle
DESCRIPTION:
URL:https://route65pubngrub.com/calendar/sunday-meat-raffle-route-65-pub-2/2025-12-21/
LOCATION:Route 65 Pub and Grub\, 18407 Highway 65 NE\, East Bethel\, MN\, 55011\, United States
CATEGORIES:Meat Raffle
END:VEVENT
END:VCALENDAR